BEGIN:VCALENDAR
PRODID:-//Dokk 5//iCal4j 1.0//EN
VERSION:2.0
CALSCALE:GREGORIAN
BEGIN:VEVENT
DTSTAMP:20260425T202436Z
DTSTART;VALUE=DATE:20260427
SUMMARY:Versenytanácsi tárgyalás nincs kitűzve a 2026. április 27-től ápr
 ilis 30-ig terjedő időszakban
LOCATION:null
DESCRIPTION:Tájékoztató a Versenytanács tárgyalásairól
UID:57713f8d-330f-40e5-af6b-98319c5283d0
END:VEVENT
END:VCALENDAR
