BEGIN:VCALENDAR
PRODID:-//Dokk 5//iCal4j 1.0//EN
VERSION:2.0
CALSCALE:GREGORIAN
BEGIN:VEVENT
DTSTAMP:20260425T202437Z
DTSTART;VALUE=DATE:20260413
SUMMARY:Versenytanácsi tárgyalás nincs kitűzve a 2026. április 13-tól ápr
 ilis 17-ig terjedő időszakban
LOCATION:null
DESCRIPTION:Tájékoztató a Versenytanács tárgyalásairól
UID:132b4343-8b20-4c5d-8664-058eedc2064b
END:VEVENT
END:VCALENDAR
