BEGIN:VCALENDAR
PRODID:-//Dokk 5//iCal4j 1.0//EN
VERSION:2.0
CALSCALE:GREGORIAN
BEGIN:VEVENT
DTSTAMP:20260425T221058Z
DTSTART;VALUE=DATE:20260407
SUMMARY:Versenytanácsi tárgyalás nincs kitűzve a 2026. április 7-től ápri
 lis 10-ig terjedő időszakban
LOCATION:null
DESCRIPTION:Tájékoztató a Versenytanács tárgyalásairól
UID:652b5c6d-1d3d-44b5-95c0-7b6cfc13736f
END:VEVENT
END:VCALENDAR
