BEGIN:VCALENDAR
PRODID:-//Dokk 5//iCal4j 1.0//EN
VERSION:2.0
CALSCALE:GREGORIAN
BEGIN:VEVENT
DTSTAMP:20260425T221059Z
DTSTART;VALUE=DATE:20260330
SUMMARY:Versenytanácsi tárgyalás nincs kitűzve a 2026. március 30-tól ápr
 ilis 2-ig terjedő időszakban
LOCATION:null
DESCRIPTION:
UID:415b6b98-efa4-4260-9131-1d269d6b2bab
END:VEVENT
END:VCALENDAR
