BEGIN:VCALENDAR
PRODID:-//Dokk 5//iCal4j 1.0//EN
VERSION:2.0
CALSCALE:GREGORIAN
BEGIN:VEVENT
DTSTAMP:20260425T221030Z
DTSTART;VALUE=DATE:20260204
SUMMARY:Versenytanácsi tárgyalás lesz gazdasági erőfölénnyel való visszaé
 lés tilalmának feltételezett megsértése utóvizsgálati ügyében (One Magya
 rország Zrt.)
LOCATION:null
DESCRIPTION:2026. február 4. (szerda) 14.00 órakor a GVH és a One Magyaro
 rszág Zrt. (jogelőd: UPC Magyarország Kft.)között gazdasági erőfölénnyel
  való visszaélés tilalmának feltételezett megsértése miatt lefolytatott 
 VJ/15/2015. számú versenyfelügyeleti eljárásban hozott határozatban előí
 rt kötelezettségvállalás teljesítésének ellenőrzése ügyében versenytanác
 si tárgyalás lesz. Ügyiratszám: Vj-8/2025. Tájékoztató a Versenytanács t
 árgyalásairól
UID:6f8f32ee-f20b-4a9a-827b-242b58c05bee
END:VEVENT
END:VCALENDAR
