BEGIN:VCALENDAR
PRODID:-//Dokk 5//iCal4j 1.0//EN
VERSION:2.0
CALSCALE:GREGORIAN
BEGIN:VEVENT
DTSTAMP:20260425T221030Z
DTSTART;VALUE=DATE:20260204
SUMMARY:Versenytanácsi tárgyalás lesz a gazdasági erőfölénnyel való vissz
 aélés tilalmának  ügyében (One Magyarország Zrt.)
LOCATION:null
DESCRIPTION:2026. január 16. (pétek) 11.00 órakor a GVH és a One Magyaror
 szág Zrt. között a gazdasági erőfölénnyel való visszaélés tilalmának ügy
 ében versenytanácsi tárgyalás lesz. Ügyiratszám: Vj-8/2024. A tárgyalás 
 helyszíne: 1026 Budapest\, Riadó utca 5. földszinti tárgyalóterem Tájéko
 ztató a Versenytanács tárgyalásairól
UID:37f25bb9-50cb-429f-92f3-c403cc472cbf
END:VEVENT
END:VCALENDAR
