BEGIN:VCALENDAR
PRODID:-//Dokk 5//iCal4j 1.0//EN
VERSION:2.0
CALSCALE:GREGORIAN
BEGIN:VEVENT
DTSTAMP:20260425T221033Z
DTSTART;VALUE=DATE:20250512
SUMMARY:Versenytanácsi tárgyalás nincs kitűzve a 2025. május 12-től 2025.
  május 17-ig terjedő időszakban
LOCATION:null
DESCRIPTION:
UID:8098b57e-e047-4c3a-8f8f-5f8dc6b491d9
END:VEVENT
END:VCALENDAR
