BEGIN:VCALENDAR
PRODID:-//Dokk 5//iCal4j 1.0//EN
VERSION:2.0
CALSCALE:GREGORIAN
BEGIN:VEVENT
DTSTAMP:20260425T221031Z
DTSTART;VALUE=DATE:20260316
SUMMARY:Versenytanácsi tárgyalás nincs kitűzve a 2026. március 16-tól 202
 6. március 20-ig terjedő időszakban
LOCATION:null
DESCRIPTION:Tájékoztató a Versenytanács tárgyalásairól
UID:5273cc89-816f-45cf-8b92-4ff2f3ead438
END:VEVENT
END:VCALENDAR
