BEGIN:VCALENDAR
PRODID:-//Dokk 5//iCal4j 1.0//EN
VERSION:2.0
CALSCALE:GREGORIAN
BEGIN:VEVENT
DTSTAMP:20260425T221031Z
DTSTART;VALUE=DATE:20250414
SUMMARY:Versenytanácsi tárgyalás nincs kitűzve a 2025. április 14-től 202
 5. április 17-ig terjedő időszakban
LOCATION:null
DESCRIPTION:
UID:249e55f1-4357-4fb6-8871-4fc5ef815f8a
END:VEVENT
END:VCALENDAR
