BEGIN:VCALENDAR
PRODID:-//Dokk 5//iCal4j 1.0//EN
VERSION:2.0
CALSCALE:GREGORIAN
BEGIN:VEVENT
DTSTAMP:20260425T221059Z
DTSTART;VALUE=DATE:20250407
SUMMARY:Versenytanácsi tárgyalás nincs kitűzve a 2025. április 7-től 2025
 . április 11-ig terjedő időszakban
LOCATION:null
DESCRIPTION:
UID:14fdcf58-25d4-4d12-921c-d86b0645893b
END:VEVENT
END:VCALENDAR
