BEGIN:VCALENDAR
PRODID:-//Dokk 5//iCal4j 1.0//EN
VERSION:2.0
CALSCALE:GREGORIAN
BEGIN:VEVENT
DTSTAMP:20260425T221033Z
DTSTART;VALUE=DATE:20250331
SUMMARY:Versenytanácsi tárgyalás nincs kitűzve a 2025. március 31-től 202
 5. április 4-ig terjedő időszakban
LOCATION:null
DESCRIPTION:
UID:d3bf9978-33fe-403d-b520-ccefee7a90c9
END:VEVENT
END:VCALENDAR
