BEGIN:VCALENDAR
PRODID:-//Dokk 5//iCal4j 1.0//EN
VERSION:2.0
CALSCALE:GREGORIAN
BEGIN:VEVENT
DTSTAMP:20260425T221033Z
DTSTART;VALUE=DATE:20251121
SUMMARY:Versenytanácsi tárgyalás lesz fogyasztókkal szembeni tisztességte
 len kereskedelmi gyakorlat tilalmának feltételezett megsértése ügyében (
 M-U-T Hungaria Kommunális Járműgyártó és Kereskedelmi Kft. és társai)
LOCATION:Gazdasági Versenyhivatal (1026 Budapest\, Riadó u. 5-11.\, konfe
 renciaterem) ()
DESCRIPTION:2025. november 21-én (pénteken) 9.00 órakor a GVH és a M-U-T 
 Hungaria Kommunális Járműgyártó és Kereskedelmi Korlátolt Felelősségű Tá
 rsaság és társai között gazdasági versenyt korlátozó megállapodás tilalm
 ának feltételezett megsértése ügyében versenytanácsi tárgyalás lesz. Ügy
 iratszám: Vj-30/2018. A tárgyalás helyszíne: 1026 Budapest\, Riadó utca 
 5. földszinti tárgyalóterem Tájékoztató a Versenytanács tárgyalásairól
UID:116ed741-a189-4108-ab5d-aa8f321a8aee
END:VEVENT
END:VCALENDAR
