BEGIN:VCALENDAR
PRODID:-//Dokk 5//iCal4j 1.0//EN
VERSION:2.0
CALSCALE:GREGORIAN
BEGIN:VEVENT
DTSTAMP:20260425T221033Z
DTSTART;VALUE=DATE:20250317
SUMMARY:Versenytanácsi tárgyalás nincs kitűzve a 2025. március 17-től 202
 5. március 21-ig terjedő időszakban
LOCATION:null
DESCRIPTION:
UID:378f4604-f188-4f9a-8137-3b5ccfead9a0
END:VEVENT
END:VCALENDAR
