BEGIN:VCALENDAR
PRODID:-//Dokk 5//iCal4j 1.0//EN
VERSION:2.0
CALSCALE:GREGORIAN
BEGIN:VEVENT
DTSTAMP:20260425T221032Z
DTSTART;VALUE=DATE:20250310
SUMMARY:Versenytanácsi tárgyalás nincs kitűzve a 2025. március 10-től 202
 5. március 14-ig terjedő időszakban
LOCATION:null
DESCRIPTION:
UID:fb393f9d-ce44-49e9-832a-bfc79299082e
END:VEVENT
END:VCALENDAR
