BEGIN:VCALENDAR
PRODID:-//Dokk 5//iCal4j 1.0//EN
VERSION:2.0
CALSCALE:GREGORIAN
BEGIN:VEVENT
DTSTAMP:20260425T221032Z
DTSTART;VALUE=DATE:20250303
SUMMARY:Versenytanácsi tárgyalás nincs kitűzve a 2025. március 3-tól 2025
 . március 7-ig terjedő időszakban
LOCATION:null
DESCRIPTION:
UID:7c300c29-dbb8-4b64-ae15-939b5f0efcb2
END:VEVENT
END:VCALENDAR
