BEGIN:VCALENDAR
PRODID:-//Dokk 5//iCal4j 1.0//EN
VERSION:2.0
CALSCALE:GREGORIAN
BEGIN:VEVENT
DTSTAMP:20260425T221032Z
DTSTART;VALUE=DATE:20250224
SUMMARY:Versenytanácsi tárgyalás nincs kitűzve a 2025. február 24-től 202
 5. február 28-ig terjedő időszakban
LOCATION:null
DESCRIPTION:
UID:f3ef72db-9bc5-4d8a-aedc-f83cfa721e54
END:VEVENT
END:VCALENDAR
