BEGIN:VCALENDAR
PRODID:-//Dokk 5//iCal4j 1.0//EN
VERSION:2.0
CALSCALE:GREGORIAN
BEGIN:VEVENT
DTSTAMP:20260425T223043Z
DTSTART;VALUE=DATE:20250210
SUMMARY:Versenytanácsi tárgyalás nincs kitűzve a 2025. február 10-től 202
 5. február 14-ig terjedő időszakban
LOCATION:null
DESCRIPTION:
UID:fa59e989-0e7a-4ce0-8524-8935dc0212ab
END:VEVENT
END:VCALENDAR
