BEGIN:VCALENDAR
PRODID:-//Dokk 5//iCal4j 1.0//EN
VERSION:2.0
CALSCALE:GREGORIAN
BEGIN:VEVENT
DTSTAMP:20260425T223041Z
DTSTART;VALUE=DATE:20250203
SUMMARY:Versenytanácsi tárgyalás nincs kitűzve a 2025. február 3-tól 2025
 . február 7-ig terjedő időszakban
LOCATION:null
DESCRIPTION:
UID:2ce32edd-40cb-46ff-8a48-706f9d1f0fc3
END:VEVENT
END:VCALENDAR
