BEGIN:VCALENDAR
PRODID:-//Dokk 5//iCal4j 1.0//EN
VERSION:2.0
CALSCALE:GREGORIAN
BEGIN:VEVENT
DTSTAMP:20260425T223039Z
DTSTART;VALUE=DATE:20250127
SUMMARY:Versenytanácsi tárgyalás nincs kitűzve a 2025. január 27-től 2025
 . január 31-ig terjedő időszakban
LOCATION:null
DESCRIPTION:
UID:242ae974-86f9-4d19-91a9-caa737890493
END:VEVENT
END:VCALENDAR
