BEGIN:VCALENDAR
PRODID:-//Dokk 5//iCal4j 1.0//EN
VERSION:2.0
CALSCALE:GREGORIAN
BEGIN:VEVENT
DTSTAMP:20260425T223036Z
DTSTART;VALUE=DATE:20250120
SUMMARY:Versenytanácsi tárgyalás nincs kitűzve a 2025. január 20-tól 2025
 . január 24-ig terjedő időszakban
LOCATION:null
DESCRIPTION:
UID:ecfc999d-d790-48ec-a901-a5545c5f7d25
END:VEVENT
END:VCALENDAR
