BEGIN:VCALENDAR
PRODID:-//Dokk 5//iCal4j 1.0//EN
VERSION:2.0
CALSCALE:GREGORIAN
BEGIN:VEVENT
DTSTAMP:20260425T223036Z
DTSTART;VALUE=DATE:20250113
SUMMARY:Versenytanácsi tárgyalás nincs kitűzve a 2025. január 13-tól 2025
 . január 17-ig terjedő időszakban
LOCATION:null
DESCRIPTION:
UID:ba945864-9157-4413-be35-e0bf7c29c2eb
END:VEVENT
END:VCALENDAR
