BEGIN:VCALENDAR
PRODID:-//Dokk 5//iCal4j 1.0//EN
VERSION:2.0
CALSCALE:GREGORIAN
BEGIN:VEVENT
DTSTAMP:20260425T221059Z
DTSTART;VALUE=DATE:20260423
SUMMARY:Versenytanácsi tárgyalás lesz a Vj/17/2017. számú versenyfelügyel
 eti eljárásban hozott határozatban előírt kötelezettségek teljesítésének
  ellenőrzése céljából (Wizz Air Hungary Zrt.)
LOCATION:null
DESCRIPTION:2026. április 23-án (csütörtök) 11.00 órakor a GVH és a Wizz 
 Air Hungary Zrt. között a Vj/17/2017. számú versenyfelügyeleti eljárásba
 n hozott határozatban előírt kötelezettségek teljesítésének ellenőrzése 
 céljából indult utóvizsgálati eljárásban versenytanácsi tárgyalás lesz. 
 Ügyiratszám: Vj-19/2025. A tárgyalás helyszíne: 1026 Budapest\, Riadó ut
 ca 5. földszinti tárgyalóterem Tájékoztató a Versenytanács tárgyalásairó
 l
UID:b7a8d685-0a7e-4eae-93f8-74a58c449e08
END:VEVENT
END:VCALENDAR
