BEGIN:VCALENDAR
PRODID:-//Dokk 5//iCal4j 1.0//EN
VERSION:2.0
CALSCALE:GREGORIAN
BEGIN:VEVENT
DTSTAMP:20260425T223037Z
DTSTART;VALUE=DATE:20241223
SUMMARY:Versenytanácsi tárgyalás nincs kitűzve a 2024. december 23-tól 20
 25. január 3-ig terjedő időszakban
LOCATION:null
DESCRIPTION:
UID:7e23d1de-3df1-49b2-a6ed-ad4bae3925d6
END:VEVENT
END:VCALENDAR
