BEGIN:VCALENDAR
PRODID:-//Dokk 5//iCal4j 1.0//EN
VERSION:2.0
CALSCALE:GREGORIAN
BEGIN:VEVENT
DTSTAMP:20260425T223037Z
DTSTART;VALUE=DATE:20241216
SUMMARY:Versenytanácsi tárgyalás nincs kitűzve a 2024. december 16-tól 20
 24. december 20-ig terjedő időszakban
LOCATION:null
DESCRIPTION:
UID:def79076-9187-44b8-bb9f-7e5e294e953f
END:VEVENT
END:VCALENDAR
