BEGIN:VCALENDAR
PRODID:-//Dokk 5//iCal4j 1.0//EN
VERSION:2.0
CALSCALE:GREGORIAN
BEGIN:VEVENT
DTSTAMP:20260425T223037Z
DTSTART;VALUE=DATE:20241209
SUMMARY:Versenytanácsi tárgyalás nincs kitűzve a 2024. december 9-től 202
 4. december 14-ig terjedő időszakban
LOCATION:null
DESCRIPTION:
UID:00a3ef79-e73b-4865-8767-ec6c4012d76c
END:VEVENT
END:VCALENDAR
