BEGIN:VCALENDAR
PRODID:-//Dokk 5//iCal4j 1.0//EN
VERSION:2.0
CALSCALE:GREGORIAN
BEGIN:VEVENT
DTSTAMP:20260425T223035Z
DTSTART;VALUE=DATE:20241205
SUMMARY:Versenytanácsi tárgyalás lesz gazdasági versenyt korlátozó megáll
 apodás tilalmának feltételezett megsértése ügyében (Homlok Építőipari Kf
 t. és társai)
LOCATION:null
DESCRIPTION:2024. december 5-én (csütörtök) 9.00 órakor a GVH és a Homlok
  Építőipari Kft. és társai között gazdasági versenyt korlátozó megállapo
 dás tilalmának feltételezett megsértése ügyében versenytanácsi tárgyalás
  lesz. Ügyiratszám: Vj-36/2022. A tárgyalás helyszíne: 1026 Budapest\, R
 iadó utca 5. földszinti tárgyalóterem Tájékoztató a Versenytanács tárgya
 lásairól
UID:2c8f6648-6290-4789-969c-e448bff3a9b4
END:VEVENT
END:VCALENDAR
