BEGIN:VCALENDAR
PRODID:-//Dokk 5//iCal4j 1.0//EN
VERSION:2.0
CALSCALE:GREGORIAN
BEGIN:VEVENT
DTSTAMP:20260425T223035Z
DTSTART;VALUE=DATE:20241125
SUMMARY:Versenytanácsi tárgyalás nincs kitűzve a 2024. november 25-től 20
 24. november 29-ig terjedő időszakban
LOCATION:null
DESCRIPTION:
UID:ad76de10-25a8-4ff0-9d9f-e9621928e965
END:VEVENT
END:VCALENDAR
