BEGIN:VCALENDAR
PRODID:-//Dokk 5//iCal4j 1.0//EN
VERSION:2.0
CALSCALE:GREGORIAN
BEGIN:VEVENT
DTSTAMP:20260425T223035Z
DTSTART;VALUE=DATE:20241120
SUMMARY:Versenytanácsi tárgyalás lesz fogyasztókkal szembeni tisztességte
 len kereskedelmi gyakorlat tilalmának feltételezett megsértése ügyében (
 Delivery Hero Hungary Kft.)
LOCATION:null
DESCRIPTION:
UID:efa7967a-f083-4e9b-8c98-446e44b9401b
END:VEVENT
END:VCALENDAR
