BEGIN:VCALENDAR
PRODID:-//Dokk 5//iCal4j 1.0//EN
VERSION:2.0
CALSCALE:GREGORIAN
BEGIN:VEVENT
DTSTAMP:20260425T223044Z
DTSTART;VALUE=DATE:20241114
SUMMARY:Versenytanácsi tárgyalás lesz fogyasztókkal szembeni tisztességte
 len kereskedelmi gyakorlat tilalmának feltételezett megsértése ügyében (
 City Taxi Fuvarszervező Szövetkezet)
LOCATION:null
DESCRIPTION:2024. november 14-én (csütörtök) 14.00 órakor a GVH és a City
  Taxi Fuvarszervező Szövetkezet között fogyasztókkal szembeni tisztesség
 telen kereskedelmi gyakorlat tilalmának feltételezett megsértése ügyében
  versenytanácsi tárgyalás lesz. Ügyiratszám: Vj-11/2024. A tárgyalás hel
 yszíne: 1026 Budapest\, Riadó utca 5. földszinti tárgyalóterem Tájékozta
 tó a Versenytanács tárgyalásairól
UID:b6f3ed33-a7a8-4b86-b750-8d2111e2093c
END:VEVENT
END:VCALENDAR
