BEGIN:VCALENDAR
PRODID:-//Dokk 5//iCal4j 1.0//EN
VERSION:2.0
CALSCALE:GREGORIAN
BEGIN:VEVENT
DTSTAMP:20260425T223039Z
DTSTART;VALUE=DATE:20241113
SUMMARY:Versenytanácsi tárgyalás lesz fogyasztókkal szembeni tisztességte
 len kereskedelmi gyakorlat tilalmának feltételezett megsértése ügyében (
 Lidl Magyarország Bt)
LOCATION:null
DESCRIPTION:2024. november 13-án (szerda) 10.00 órakor a GVH és a Lidl Ma
 gyarország Bt között fogyasztókkal szembeni tisztességtelen kereskedelmi
  gyakorlat tilalmának feltételezett megsértése ügyében versenytanácsi tá
 rgyalás lesz. Ügyiratszám: Vj-1/2024. A tárgyalás helyszíne: 1026 Budape
 st\, Riadó utca 5. földszinti tárgyalóterem Tájékoztató a Versenytanács 
 tárgyalásairól
UID:50030ea7-d598-4a1a-b72f-57674a7392e0
END:VEVENT
END:VCALENDAR
