BEGIN:VCALENDAR
PRODID:-//Dokk 5//iCal4j 1.0//EN
VERSION:2.0
CALSCALE:GREGORIAN
BEGIN:VEVENT
DTSTAMP:20260425T223040Z
DTSTART;VALUE=DATE:20241104
SUMMARY:Versenytanácsi tárgyalás nincs kitűzve a 2024. november 4-től 202
 4. november 8-ig terjedő időszakban
LOCATION:null
DESCRIPTION:
UID:0952e215-2580-4260-91d3-eb11d67b86d0
END:VEVENT
END:VCALENDAR
