BEGIN:VCALENDAR
PRODID:-//Dokk 5//iCal4j 1.0//EN
VERSION:2.0
CALSCALE:GREGORIAN
BEGIN:VEVENT
DTSTAMP:20260425T223042Z
DTSTART;VALUE=DATE:20241028
SUMMARY:Versenytanácsi tárgyalás nincs kitűzve a 2024. október 28-tól 202
 4. október 31-ig terjedő időszakban
LOCATION:null
DESCRIPTION:
UID:4f2e7cb1-6571-4d0b-8101-69070fae6fac
END:VEVENT
END:VCALENDAR
