BEGIN:VCALENDAR
PRODID:-//Dokk 5//iCal4j 1.0//EN
VERSION:2.0
CALSCALE:GREGORIAN
BEGIN:VEVENT
DTSTAMP:20260425T223041Z
DTSTART;VALUE=DATE:20241021
SUMMARY:Versenytanácsi tárgyalás nincs kitűzve a 2024. október 21-től 202
 4. október 25-ig terjedő időszakban
LOCATION:null
DESCRIPTION:
UID:e5295df8-7e0d-4c1e-9ae2-de167d314e01
END:VEVENT
END:VCALENDAR
