BEGIN:VCALENDAR
PRODID:-//Dokk 5//iCal4j 1.0//EN
VERSION:2.0
CALSCALE:GREGORIAN
BEGIN:VEVENT
DTSTAMP:20260425T223041Z
DTSTART;VALUE=DATE:20241014
SUMMARY:Versenytanácsi tárgyalás lesz fogyasztókkal szembeni tisztességte
 len kereskedelmi gyakorlat tilalmának feltételezett megsértése ügyében (
 Microsoft Ireland Operations Limited)
LOCATION:null
DESCRIPTION:2024. október 14. (hétfő) 14.00 órakor a GVH és a Microsoft I
 reland Operations Limited között fogyasztókkal szembeni tisztességtelen 
 kereskedelmi gyakorlat tilalmának feltételezett megsértése ügyében verse
 nytanácsi tárgyalás lesz. Ügyiratszám: Vj-20/2023. A tárgyalás helyszíne
 : 1026 Budapest\, Riadó utca 5. földszinti tárgyalóterem Tájékoztató a V
 ersenytanács tárgyalásairól
UID:5a96330a-6fb5-42ec-9089-ed47cebb885f
END:VEVENT
END:VCALENDAR
