BEGIN:VCALENDAR
PRODID:-//Dokk 5//iCal4j 1.0//EN
VERSION:2.0
CALSCALE:GREGORIAN
BEGIN:VEVENT
DTSTAMP:20260425T223043Z
DTSTART;VALUE=DATE:20241007
SUMMARY:Versenytanácsi tárgyalás nincs kitűzve a 2024. október 7-től 2024
 . október 11-ig terjedő időszakban
LOCATION:null
DESCRIPTION:
UID:6621a6d5-1f94-4947-84bd-edb4ddadb8bc
END:VEVENT
END:VCALENDAR
