BEGIN:VCALENDAR
PRODID:-//Dokk 5//iCal4j 1.0//EN
VERSION:2.0
CALSCALE:GREGORIAN
BEGIN:VEVENT
DTSTAMP:20260425T223044Z
DTSTART;VALUE=DATE:20240930
SUMMARY:Versenytanácsi tárgyalás nincs kitűzve a 2024. szeptember 30-tól 
 2024. október 4-ig terjedő időszakban
LOCATION:null
DESCRIPTION:
UID:79ed11f9-d16f-4c49-a3fc-5c77998294ed
END:VEVENT
END:VCALENDAR
