BEGIN:VCALENDAR
PRODID:-//Dokk 5//iCal4j 1.0//EN
VERSION:2.0
CALSCALE:GREGORIAN
BEGIN:VEVENT
DTSTAMP:20260425T223043Z
DTSTART;VALUE=DATE:20240916
SUMMARY:Versenytanácsi tárgyalás nincs kitűzve a 2024. szeptember 16-tól 
 2024. szeptember 20-ig terjedő időszakban
LOCATION:null
DESCRIPTION:Tájékoztató a Versenytanács tárgyalásairól
UID:d7feeb7c-35f0-4813-9812-cc1103da4abe
END:VEVENT
END:VCALENDAR
