BEGIN:VCALENDAR
PRODID:-//Dokk 5//iCal4j 1.0//EN
VERSION:2.0
CALSCALE:GREGORIAN
BEGIN:VEVENT
DTSTAMP:20260425T221032Z
DTSTART;VALUE=DATE:20260323
SUMMARY:Versenytanácsi tárgyalás nincs kitűzve a 2026. március 23-tól 202
 6. március 27-ig terjedő időszakban
LOCATION:null
DESCRIPTION:Tájékoztató a Versenytanács tárgyalásairól
UID:149394f7-6477-4704-a1e6-515e1aced64f
END:VEVENT
END:VCALENDAR
