BEGIN:VCALENDAR
PRODID:-//Dokk 5//iCal4j 1.0//EN
VERSION:2.0
CALSCALE:GREGORIAN
BEGIN:VEVENT
DTSTAMP:20260425T223041Z
DTSTART;VALUE=DATE:20240731
SUMMARY:Versenytanácsi tárgyalás lesz gazdasági versenyt korlátozó megáll
 apodás tilalmának feltételezett megsértése ügyében (Eurotrade Kereskedel
 mi és Szolgáltató Kft. és társai) 
LOCATION:null
DESCRIPTION:2024. július 31. (szerda) 10.00 órakor a GVH és a Eurotrade K
 ereskedelmi és Szolgáltató Kft. és társai között gazdasági versenyt korl
 átozó megállapodás tilalmának feltételezett megsértése ügyében versenyta
 nácsi tárgyalás lesz.  Ügyiratszám: Vj/19/2020. és Vj/41/2020. számú egy
 esített versenyfelügyeleti eljárás Tájékoztató a Versenytanács tárgyalás
 airól
UID:5c4fb941-f561-407a-85aa-b7f843f71a23
END:VEVENT
END:VCALENDAR
