BEGIN:VCALENDAR
PRODID:-//Dokk 5//iCal4j 1.0//EN
VERSION:2.0
CALSCALE:GREGORIAN
BEGIN:VEVENT
DTSTAMP:20260425T223037Z
DTSTART;VALUE=DATE:20240709
SUMMARY:Versenytanácsi tárgyalás lesz fogyasztókkal szembeni tisztességte
 len kereskedelmi gyakorlat tilalmának feltételezett megsértése miatt ind
 ult\, a VJ/21/2019. számú versenyfelügyeleti eljárásban született határo
 zat részleges hatályon kívül helyezése folytán (Innovelle Pharma Kft.)
LOCATION:null
DESCRIPTION:2024. július 9. (kedd) 14.00 órakor a GVH és az Innovelle Pha
 rma Kft. között fogyasztókkal szembeni tisztességtelen kereskedelmi gyak
 orlat tilalmának feltételezett megsértése miatt indult\, a VJ/21/2019. s
 zámú versenyfelügyeleti eljárásban született határozat részleges hatályo
 n kívül helyezése folytán versenytanácsi tárgyalás lesz. Ügyiratszám: Vj
 -35/2023. A tárgyalás helyszíne: 1026 Budapest\, Riadó utca 5. földszint
 i tárgyalóterem Tájékoztató a Versenytanács tárgyalásairól
UID:9d762f37-00c5-44ba-af42-0f98648b96bc
END:VEVENT
END:VCALENDAR
