BEGIN:VCALENDAR
PRODID:-//Dokk 5//iCal4j 1.0//EN
VERSION:2.0
CALSCALE:GREGORIAN
BEGIN:VEVENT
DTSTAMP:20260425T223040Z
DTSTART;VALUE=DATE:20240715
SUMMARY:Versenytanácsi tárgyalás nincs kitűzve a 2024. július 15-től 2024
 . július 19-ig terjedő időszakban
LOCATION:null
DESCRIPTION:Tájékoztató a Versenytanács tárgyalásairól
UID:30110d52-73ac-4644-9232-ca1900a1dc6c
END:VEVENT
END:VCALENDAR
