BEGIN:VCALENDAR
PRODID:-//Dokk 5//iCal4j 1.0//EN
VERSION:2.0
CALSCALE:GREGORIAN
BEGIN:VEVENT
DTSTAMP:20260425T223039Z
DTSTART;VALUE=DATE:20240605
SUMMARY:Versenytanácsi tárgyalás lesz fogyasztó megtévesztése ügyében (WI
 ZZ Air Hungary Zrt.) Zárt tárgyalás várható.
LOCATION:null
DESCRIPTION:2024. június 5. (szerda) 14.00 órakor a GVH és a WIZZ Air Hun
 gary Zrt. között fogyasztó megtévesztése ügyében versenytanácsi tárgyalá
 s lesz. Ügyiratszám: Vj-1/2023. Zárt tárgyalás várható. Tájékoztató a Ve
 rsenytanács tárgyalásairól
UID:52f6734b-f21d-4831-b767-045aad67c4be
END:VEVENT
END:VCALENDAR
