BEGIN:VCALENDAR
PRODID:-//Dokk 5//iCal4j 1.0//EN
VERSION:2.0
CALSCALE:GREGORIAN
BEGIN:VEVENT
DTSTAMP:20260425T223043Z
DTSTART;VALUE=DATE:20240722
SUMMARY:Versenytanácsi tárgyalás nincs kitűzve a 2024. július 22-től 2024
 . július 26-ig terjedő időszakban
LOCATION:null
DESCRIPTION:Tájékoztató a Versenytanács tárgyalásairól
UID:004566d2-7046-4d07-82f6-88f17451f139
END:VEVENT
END:VCALENDAR
