BEGIN:VCALENDAR
PRODID:-//Dokk 5//iCal4j 1.0//EN
VERSION:2.0
CALSCALE:GREGORIAN
BEGIN:VEVENT
DTSTAMP:20260425T223042Z
DTSTART;VALUE=DATE:20240508
SUMMARY:Versenytanácsi tárgyalás lesz üzletfelek megtévesztése tilalmának
  és üzletfél választási szabadságát indokolatlanul korlátozó üzleti gyak
 orlat alkalmazása tilalmának feltételezett megsértése ügyében (Biokontro
 ll Hungária Kft. és Magyar Biokultúra Szövetség)
LOCATION:null
DESCRIPTION:2024. május 8. (szerda) 14.00 órakor a GVH és a Biokontroll H
 ungária Ellenőrző és Tanúsító Nonprofit Kft. és Magyar Biokultúra Szövet
 ség között üzletfelek megtévesztése tilalmának és üzletfél választási sz
 abadságát indokolatlanul korlátozó üzleti gyakorlat alkalmazása tilalmán
 ak feltételezett megsértése ügyében versenytanácsi tárgyalás lesz. Ügyir
 atszám: Vj-47/2022. Tájékoztató a Versenytanács tárgyalásairól
UID:e482807c-4d1f-406c-9f42-802123d70c16
END:VEVENT
END:VCALENDAR
