BEGIN:VCALENDAR
PRODID:-//Dokk 5//iCal4j 1.0//EN
VERSION:2.0
CALSCALE:GREGORIAN
BEGIN:VEVENT
DTSTAMP:20260425T223041Z
DTSTART;VALUE=DATE:20240424
SUMMARY:Versenytanácsi tárgyalás lesz a VJ/1/2021. számú versenyfelügyele
 ti eljárásban hozott határozatban előírt kötelezettségek teljesítésének 
 ellenőrzése ügyében (Vodafone Magyarország Zrt.)
LOCATION:null
DESCRIPTION:2024. április 24. (szerda) 14.30 órakor a GVH és a Vodafone M
 agyarország Zrt. között a VJ/1/2021. számú versenyfelügyeleti eljárásban
  hozott határozatban előírt kötelezettségek teljesítésének ellenőrzése ü
 gyében versenytanácsi tárgyalás lesz. Ügyiratszám: Vj-24/2023. Tájékozta
 tó a Versenytanács tárgyalásairól
UID:5d7115d2-97e6-413c-a1a6-74f4254eb924
END:VEVENT
END:VCALENDAR
