BEGIN:VCALENDAR
PRODID:-//Dokk 5//iCal4j 1.0//EN
VERSION:2.0
CALSCALE:GREGORIAN
BEGIN:VEVENT
DTSTAMP:20260425T223040Z
DTSTART;VALUE=DATE:20240423
SUMMARY:Versenytanácsi tárgyalás lesz fogyasztókkal szembeni tisztességte
 len kereskedelmi gyakorlat tilalmának feltételezett megsértése ügyében (
 Donoci s.r.o.)
LOCATION:null
DESCRIPTION:2024. április 23. (kedd) 14.00 órakor a GVH és a Donoci s.r.o
 . között fogyasztókkal szembeni tisztességtelen kereskedelmi gyakorlat t
 ilalmának feltételezett megsértése ügyében versenytanácsi tárgyalás lesz
 . Ügyiratszám: Vj-25/2022. Tájékoztató a Versenytanács tárgyalásairól
UID:4c4be703-405e-45da-b2d3-fe459c05a74d
END:VEVENT
END:VCALENDAR
