BEGIN:VCALENDAR
PRODID:-//Dokk 5//iCal4j 1.0//EN
VERSION:2.0
CALSCALE:GREGORIAN
BEGIN:VEVENT
DTSTAMP:20260425T223043Z
DTSTART;VALUE=DATE:20240301
SUMMARY:Versenytanácsi tárgyalás lesz fogyasztókkal szembeni tisztességte
 len kereskedelmi gyakorlat tilalmának feltételezett megsértése ügyében (
 CTS Eventim Hungary Kereskedelmi és Szolgáltató Kft.)
LOCATION:null
DESCRIPTION:2024. március 1. (péntek) 10.00 órakor a GVH és a CTS Eventim
  Hungary Kereskedelmi és Szolgáltató Kft. között fogyasztókkal szembeni 
 tisztességtelen kereskedelmi gyakorlat tilalmának feltételezett megsérté
 se ügyében versenytanácsi tárgyalás lesz. Ügyiratszám: Vj-11/2023. Tájék
 oztató a Versenytanács tárgyalásairól
UID:2cd7ce31-53d6-4876-935f-926e982272df
END:VEVENT
END:VCALENDAR
