BEGIN:VCALENDAR
PRODID:-//Dokk 5//iCal4j 1.0//EN
VERSION:2.0
CALSCALE:GREGORIAN
BEGIN:VEVENT
DTSTAMP:20260425T223042Z
DTSTART;VALUE=DATE:20240227
SUMMARY:Versenytanácsi tárgyalás lesz fogyasztókkal szembeni tisztességte
 len kereskedelmi gyakorlat tilalmának feltételezett megsértése ügyében (
 CUP Revolution Szolgáltató Kft.)
LOCATION:null
DESCRIPTION:2024. február 27. (kedd) 14.30 órakor a GVH és a CUP Revoluti
 on Szolgáltató Kft. között fogyasztókkal szembeni tisztességtelen keresk
 edelmi gyakorlat tilalmának feltételezett megsértése ügyében versenytaná
 csi tárgyalás lesz. Ügyiratszám: Vj-34/2022. Tájékoztató a Versenytanács
  tárgyalásairól
UID:a84f422c-ddd7-4240-b217-a7baeb12b3d6
END:VEVENT
END:VCALENDAR
