BEGIN:VCALENDAR
PRODID:-//Dokk 5//iCal4j 1.0//EN
VERSION:2.0
CALSCALE:GREGORIAN
BEGIN:VEVENT
DTSTAMP:20260425T223038Z
DTSTART;VALUE=DATE:20240123
SUMMARY:Versenytanácsi tárgyalás lesz a fogyasztókkal szembeni tisztesség
 telen kereskedelmi gyakorlat tilalmának feltételezett megsértése ügyében
  (EU-SOLAR Kereskedelmi és Szolgáltató Nyrt.)
LOCATION:null
DESCRIPTION:2024. január 23. (kedd) 10.00 órakor a GVH és az EU-SOLAR Ker
 eskedelmi és Szolgáltató Nyrt. között a fogyasztókkal szembeni tisztessé
 gtelen kereskedelmi gyakorlat tilalmának feltételezett megsértése ügyébe
 n versenytanácsi tárgyalás lesz. Ügyiratszám: Vj-26/2022. A tárgyalás he
 lyszíne: 1026 Budapest\, Riadó utca 5. földszinti tárgyalóterem Tájékozt
 ató a Versenytanács tárgyalásairól
UID:e516983e-58eb-4d49-9126-9c142c913c50
END:VEVENT
END:VCALENDAR
