BEGIN:VCALENDAR
PRODID:-//Dokk 5//iCal4j 1.0//EN
VERSION:2.0
CALSCALE:GREGORIAN
BEGIN:VEVENT
DTSTAMP:20260425T223041Z
DTSTART;VALUE=DATE:20240118
SUMMARY:Versenytanácsi tárgyalás lesz a fogyasztókkal szembeni tisztesség
 telen kereskedelmi gyakorlat tilalmának feltételezett megsértése ügyében
  (Lidl Magyarország Kereskedelmi Betéti Társaság)
LOCATION:null
DESCRIPTION:2024. január 18. (csütörtök) 10.00 órakor a GVH és a Lidl Mag
 yarország Kereskedelmi Betéti Társaság között a fogyasztókkal szembeni t
 isztességtelen kereskedelmi gyakorlat tilalmának feltételezett megsértés
 e ügyében versenytanácsi tárgyalás lesz. Ügyiratszám: Vj-19/2023. A tárg
 yalás helyszíne: 1026 Budapest\, Riadó utca 5. földszinti tárgyalóterem 
 Tájékoztató a Versenytanács tárgyalásairól
UID:2d3c85b5-54a4-4af8-ae89-84f5a4bf4c99
END:VEVENT
END:VCALENDAR
